BEGIN:VCALENDAR
PRODID:-//github.com/ical-org/ical.net//NONSGML ical.net 4.0//EN
VERSION:2.0
BEGIN:VEVENT
DESCRIPTION:A nature study club for kids in grades 1-5 in Badacsonyörs\, a
 t Folly Arboretum.
DTEND:20260314T110000Z
DTSTAMP:20260420T212037Z
DTSTART:20260314T090000Z
GEO:46.809264;17.544754
LOCATION:Folly Arboretum and Winery\nBadacsonytomaj\, Badacsonyörs\, Kápol
 navölgyi út 25
SEQUENCE:0
SUMMARY:Naturalist activities at Folly Arboretum 2026
UID:0ef1c72e-6b70-429a-9eff-955b59376554
END:VEVENT
END:VCALENDAR
