BEGIN:VCALENDAR
PRODID:-//github.com/ical-org/ical.net//NONSGML ical.net 4.0//EN
VERSION:2.0
BEGIN:VEVENT
DESCRIPTION:Correcting abdominal muscle separation using the RTM (Rectus T
 raining) method. Infants are welcome to attend the classes. Each session 
 lasts approximately 50 minutes.
DTEND:20260325T100000Z
DTSTAMP:20260421T045909Z
DTSTART:20260325T090000Z
GEO:47.102435;17.902846
LOCATION:Women's Health Classes\nVeszprém\, Tüzér u. 2
SEQUENCE:0
SUMMARY:Rectus abdominis separation recovery (RTM – Rectus Training Method)
UID:741b46c5-d3be-4882-8412-8f2ad5baa031
END:VEVENT
END:VCALENDAR
