BEGIN:VCALENDAR
PRODID:-//github.com/ical-org/ical.net//NONSGML ical.net 4.0//EN
VERSION:2.0
BEGIN:VEVENT
DESCRIPTION:A fun morning activity with lots of songs\, music\, and storie
 s. The program is free!
DTEND:20260425T090000Z
DTSTAMP:20260420T233853Z
DTSTART:20260425T080000Z
GEO:46.955675;17.606851
LOCATION:ArtValley Hall\nKapolcs\, Kossuth u. 48
SEQUENCE:0
SUMMARY:Storytelling instruments with Rita Rábaközi and Mónika Karnisné Du
 dás
UID:f494ed27-6b15-46f9-8dd1-b2b5cce62f13
END:VEVENT
END:VCALENDAR
