BEGIN:VCALENDAR
PRODID:-//github.com/ical-org/ical.net//NONSGML ical.net 4.0//EN
VERSION:2.0
BEGIN:VEVENT
DESCRIPTION:A community gastro-story served by a soldier and a strange coo
 king machine. Interactive\, musical\, family-friendly\, for ages 4+.
DTEND:20260124T192000Z
DTSTAMP:20260419T143545Z
DTSTART:20260124T183000Z
GEO:47.096455;17.905372
LOCATION:Kabóca Puppet Theater\nVeszprém\, Deák Ferenc u. 13
SEQUENCE:0
SUMMARY:Stone Soup
UID:64994f2a-cb76-4510-945f-d01c93339580
END:VEVENT
END:VCALENDAR
