BEGIN:VCALENDAR
PRODID:-//github.com/ical-org/ical.net//NONSGML ical.net 4.0//EN
VERSION:2.0
BEGIN:VEVENT
DESCRIPTION:A Stand-Up Night with Szabolcs Tóth – Laughter at the Rege Pas
 try Shop
DTEND:20260509T183000Z
DTSTAMP:20260421T173543Z
DTSTART:20260509T163000Z
GEO:46.913232;17.889796
LOCATION:Abbey Rege Dessert Shop\n
SEQUENCE:0
SUMMARY:A Stand-Up Night with Szabolcs Tóth - Apátsági Rege Pastry Shop
UID:db22bc8d-1c02-4e52-b1eb-61f48998e4a5
END:VEVENT
END:VCALENDAR
