BEGIN:VCALENDAR
PRODID:-//github.com/ical-org/ical.net//NONSGML ical.net 4.0//EN
VERSION:2.0
BEGIN:VEVENT
DESCRIPTION:Szent György Hill until dawn – wine\, music\, and experiences 
 on June 6
DTEND:20260621T230000Z
DTSTAMP:20260421T192531Z
DTSTART:20260606T100000Z
GEO:46.832869;17.431990
LOCATION:Hegymagas\nHegymagas
SEQUENCE:0
SUMMARY:St. George's Hill until dawn
UID:ca534df8-71f8-4208-a106-e5864f850f8d
END:VEVENT
END:VCALENDAR
