BEGIN:VCALENDAR
PRODID:-//github.com/ical-org/ical.net//NONSGML ical.net 4.0//EN
VERSION:2.0
BEGIN:VEVENT
DESCRIPTION:Spinal exercise classes in Sármellék. Location: 348 Dózsa Gy. 
 St.\, Sármellék 8391   (Health Center - VitálPont)
DTEND:20261230T230000Z
DTSTAMP:20260420T175121Z
DTSTART:20260331T220000Z
GEO:46.716928;17.170461
LOCATION:Sármellék\nSármellék
SEQUENCE:0
SUMMARY:Spinal Exercises
UID:70ace5e3-54b4-473b-85fd-e1f3033b833b
END:VEVENT
END:VCALENDAR
