BEGIN:VCALENDAR
PRODID:-//github.com/ical-org/ical.net//NONSGML ical.net 4.0//EN
VERSION:2.0
BEGIN:VEVENT
DESCRIPTION:Organized by Somersault Academy for preschoolers in the older 
 age groups from Herend and surrounding towns (Márkó\, Bánd\, Szentgál). T
 he goal is to help kids develop a love for physical activity and sports t
 hrough play. The event offers a glimpse into the world of gymnastics.  Pa
 rticipants can learn about and try out gymnastics equipment.
DTEND:20260415T093000Z
DTSTAMP:20260420T175535Z
DTSTART:20260415T083000Z
GEO:47.133764;17.742183
LOCATION:Herend Kangaroos Gymnastics Club Sports Association \nHerend\, Ko
 ssuth Lajos u. 45
SEQUENCE:0
SUMMARY:Somersault Academy
UID:9c5dbadd-6a0c-4f8e-8a0b-1924e2f041a9
END:VEVENT
END:VCALENDAR
