BEGIN:VCALENDAR
PRODID:-//github.com/ical-org/ical.net//NONSGML ical.net 4.0//EN
VERSION:2.0
BEGIN:VEVENT
DESCRIPTION:The season kicks off on April 3 at Sobri Jóska Adventure Park:
  enjoy an active\, full day of fun on land\, water\, and in the air in th
 e heart of the Bakony Hills.
DTEND;VALUE=DATE:20261031
DTSTAMP:20260420T202237Z
DTSTART;VALUE=DATE:20260403
GEO:47.132000;17.633000
LOCATION:Sobri Jóska Adventure Park\nKislőd
SEQUENCE:0
SUMMARY:Sobri Jóska Adventure Park
UID:ab53b62b-301a-4c8d-aa18-bfe25d2f1f1e
END:VEVENT
END:VCALENDAR
