BEGIN:VCALENDAR
PRODID:-//github.com/ical-org/ical.net//NONSGML ical.net 4.0//EN
VERSION:2.0
BEGIN:VEVENT
DESCRIPTION:We welcome seniors aged 50 and over to this easy 45-minute wor
 kout at 5 p.m. on Fridays. The class is free\, but please register at zso
 fibohm@gmail.com.
DTEND:20260306T164500Z
DTSTAMP:20260420T233846Z
DTSTART:20260306T160000Z
GEO:46.955675;17.606851
LOCATION:ArtValley Hall\nKapolcs\, Kossuth u. 48
SEQUENCE:0
SUMMARY:Senior Balance: easy movement for people over 50
UID:16db6339-1fb9-46c3-ac0d-33c18c8f8894
END:VEVENT
END:VCALENDAR
