BEGIN:VCALENDAR
PRODID:-//github.com/ical-org/ical.net//NONSGML ical.net 4.0//EN
VERSION:2.0
BEGIN:VEVENT
DTEND;VALUE=DATE:20260515
DTSTAMP:20260421T045709Z
DTSTART;VALUE=DATE:20260216
GEO:47.032014;18.027853
LOCATION:Balatonalmádi\, University of Pannonia Water Sports Center\nBalat
 onalmádi\, Lóczy Lajos tér 3
SEQUENCE:0
SUMMARY:Rowing Training - VESC
UID:b2d37781-cb2c-4e8b-a954-5e563243bc51
END:VEVENT
END:VCALENDAR
