BEGIN:VCALENDAR
PRODID:-//github.com/ical-org/ical.net//NONSGML ical.net 4.0//EN
VERSION:2.0
BEGIN:VEVENT
DESCRIPTION:We warmly welcome all beginners and advanced dance enthusiasts
  to our Roma barn dancing event\, where Péter Hajdu will guide you throug
 h the world of authentic Gypsy dances.
DTEND:20260321T180000Z
DTSTAMP:20260420T234010Z
DTSTART:20260321T170000Z
GEO:46.955675;17.606851
LOCATION:ArtValley Hall\nKapolcs\, Kossuth u. 48
SEQUENCE:0
SUMMARY:Roma barn dancing
UID:216cec94-163e-46aa-91a0-ec86f39f3116
END:VEVENT
END:VCALENDAR
