BEGIN:VCALENDAR
PRODID:-//github.com/ical-org/ical.net//NONSGML ical.net 4.0//EN
VERSION:2.0
BEGIN:VEVENT
DESCRIPTION:This is the first event of its kind in Hungary\, and it is a s
 ignificant and much-needed addition to our region\, with the main goal of
  regional development and community building. The program is called REGIO
 NAL FESTIVAL - KultúrÉtlap (CultureMenu)\, and its purpose is to promote 
 cultural discovery and awareness in the region.
DTSTAMP:20260421T155210Z
DTSTART;VALUE=DATE:20260509
GEO:46.757656;17.316947
LOCATION:Kossuth Lajos Street\, Vonyarcvashegy\nVonyarcvashegy\, Kossuth L
 ajos utca
SEQUENCE:0
SUMMARY:Regional Festival - CultureMenu Vonyarcvashegy
UID:d1580c60-89aa-4bde-b66a-85f6d967c7d0
END:VEVENT
END:VCALENDAR
