BEGIN:VCALENDAR
PRODID:-//github.com/ical-org/ical.net//NONSGML ical.net 4.0//EN
VERSION:2.0
BEGIN:VEVENT
DESCRIPTION:A Quiz Night in English
DTEND:20260421T160000Z
DTSTAMP:20260419T135352Z
DTSTART:20260421T150000Z
GEO:47.090505;17.906624
LOCATION:American Corner Veszprém\nVeszprém\, Komakút tér 3
SEQUENCE:0
SUMMARY:Quiz Night in English
UID:fbf931e6-1519-4ad3-afcf-0412229ae500
END:VEVENT
END:VCALENDAR
