BEGIN:VCALENDAR
PRODID:-//github.com/ical-org/ical.net//NONSGML ical.net 4.0//EN
VERSION:2.0
BEGIN:VEVENT
DESCRIPTION:Are you ready for a crazy New Year's Eve party?
DTEND:20260101T020000Z
DTSTAMP:20260419T143351Z
DTSTART:20251231T170000Z
GEO:47.220282;18.116121
LOCATION:Thury Castle\nVárpalota
SEQUENCE:0
SUMMARY:New Year's Eve in the town - Várpalota
UID:d36c9d53-15c0-4574-bbf9-60230142a540
END:VEVENT
END:VCALENDAR
