BEGIN:VCALENDAR
PRODID:-//github.com/ical-org/ical.net//NONSGML ical.net 4.0//EN
VERSION:2.0
BEGIN:VEVENT
DESCRIPTION:Cartoon Festival 2025 – The magic of cartoons awaits you at La
 ke Balaton.
DTEND;VALUE=DATE:20251116
DTSTAMP:20260419T144905Z
DTSTART;VALUE=DATE:20251114
GEO:47.102809;17.909302
LOCATION:Nationwide or cross-regional location\n
SEQUENCE:0
SUMMARY:National Cartoon Festival 2025
UID:5d574f23-249f-4f23-be76-9e82a43f0919
END:VEVENT
END:VCALENDAR
