BEGIN:VCALENDAR
PRODID:-//github.com/ical-org/ical.net//NONSGML ical.net 4.0//EN
VERSION:2.0
BEGIN:VEVENT
DESCRIPTION:National BBQ Day – a smoky grilling experience at Echo Restaur
 ant
DTEND:20260517T190000Z
DTSTAMP:20260421T191658Z
DTSTART:20260517T093000Z
GEO:46.916223;17.887978
LOCATION:Echo Restaurant & Cafe\nTihany\, Visszhang u. 23
SEQUENCE:0
SUMMARY:National BBQ Day - Echo Restaurant
UID:e0bb0ca4-4eb4-4ace-9d7f-cbb470dfd253
END:VEVENT
END:VCALENDAR
