BEGIN:VCALENDAR
PRODID:-//github.com/ical-org/ical.net//NONSGML ical.net 4.0//EN
VERSION:2.0
BEGIN:VEVENT
DESCRIPTION:“A great event doesn’t start when the doors open\, but when yo
 u first encounter it online.” At the next MeetUp\, you’ll gain insight in
 to the digital side of event planning with the help of two experts.\nThe 
 events industry has undergone a fundamental transformation in recent year
 s: digital tools no longer merely support communication but have become a
 n integral part of the entire experience. \n
DTEND:20260422T180000Z
DTSTAMP:20260420T234810Z
DTSTART:20260422T163000Z
GEO:46.955675;17.606851
LOCATION:ArtValley Hall\nKapolcs\, Kossuth u. 48
SEQUENCE:0
SUMMARY:MTPA ReDiTu MeetUP (#32): Digital Tools for Events
UID:ff6c95c1-2165-466b-96da-c0c62d401a34
END:VEVENT
END:VCALENDAR
