BEGIN:VCALENDAR
PRODID:-//github.com/ical-org/ical.net//NONSGML ical.net 4.0//EN
VERSION:2.0
BEGIN:VEVENT
DESCRIPTION:Memorial Day for the Martyrs of Arad – commemorative ceremony 
 in Balatonfüred
DTEND:20251006T120000Z
DTSTAMP:20260419T143831Z
DTSTART:20251006T100000Z
GEO:46.956557;17.878392
LOCATION:Park of the Martyrs of Arad\nBalatonfüred\, Köztársaság u. 5
SEQUENCE:0
SUMMARY:Memorial Day for the Martyrs of Arad
UID:959ff05b-8f2d-4f5d-8842-63459ce1d0b3
END:VEVENT
END:VCALENDAR
