BEGIN:VCALENDAR
PRODID:-//github.com/ical-org/ical.net//NONSGML ical.net 4.0//EN
VERSION:2.0
BEGIN:VEVENT
DESCRIPTION:A Macaron Workshop – creative sweet-making in Szentantalfán on
  March 6
DTEND:20260306T230000Z
DTSTAMP:20260421T083920Z
DTSTART:20260306T140000Z
GEO:46.908377;17.678216
LOCATION:Dobosi Estate\nSzentantalfa\, Rizling u
SEQUENCE:0
SUMMARY:Macaron workshop with Attila Brunner
UID:bdac417d-9234-479b-92fa-0f36ceb7bd41
END:VEVENT
END:VCALENDAR
