BEGIN:VCALENDAR
PRODID:-//github.com/ical-org/ical.net//NONSGML ical.net 4.0//EN
VERSION:2.0
BEGIN:VEVENT
DESCRIPTION:A Sunday market experience in the Kál Basin – Lily Garden in K
 áptalantóti
DTEND;VALUE=DATE:20261231
DTSTAMP:20260421T154924Z
DTSTART;VALUE=DATE:20260101
GEO:46.853651;17.518941
LOCATION:Liliomkert Market\nKáptalantóti\, Petőfi u. 13
SEQUENCE:0
SUMMARY:Liliomkert (Lily Garden) Market
UID:57b64ea1-2d24-4748-8432-2632935c0bf8
END:VEVENT
END:VCALENDAR
