BEGIN:VCALENDAR
PRODID:-//github.com/ical-org/ical.net//NONSGML ical.net 4.0//EN
VERSION:2.0
BEGIN:VEVENT
DESCRIPTION:Let go! But how? Willingly\, but not desperately? Meditating\,
  surrounded by white candle smoke? Walking backwards along El Camino?
DTEND:20251015T180000Z
DTSTAMP:20260419T145951Z
DTSTART:20251015T163000Z
GEO:47.220282;18.116121
LOCATION:Thury Castle\nVárpalota
SEQUENCE:0
SUMMARY:Let go!
UID:64861c1b-cf8f-4b8b-be10-bb6e8a0beb97
END:VEVENT
END:VCALENDAR
