BEGIN:VCALENDAR
PRODID:-//github.com/ical-org/ical.net//NONSGML ical.net 4.0//EN
VERSION:2.0
BEGIN:VEVENT
DESCRIPTION:Latin dance classes for beginners and advanced dancers\, indiv
 idually or in couples. Come and move with us to hot Latin tunes led by Te
 rézia Végh. Participation in the program is free of charge!
DTEND:20260418T170000Z
DTSTAMP:20260420T234944Z
DTSTART:20260418T160000Z
GEO:46.955675;17.606851
LOCATION:ArtValley Hall\nKapolcs\, Kossuth u. 48
SEQUENCE:0
SUMMARY:Latin dancing
UID:b0042f6f-822b-40a3-ae1f-69a5b0df8e41
END:VEVENT
END:VCALENDAR
