BEGIN:VCALENDAR
PRODID:-//github.com/ical-org/ical.net//NONSGML ical.net 4.0//EN
VERSION:2.0
BEGIN:VEVENT
DESCRIPTION:The art exhibition\, divided into two rooms\, features selecti
 ons from the Vasilescu collection held in trust at Rómer Flóris Museum in
  Győr.
DTEND:20260531T160000Z
DTSTAMP:20260421T101556Z
DTSTART:20251204T153000Z
GEO:47.090495;17.909170
LOCATION:Laczkó Dezső Museum\nVeszprém\, Erzsébet stny. 1
SEQUENCE:0
SUMMARY:Labyrinth - Lili Ország and her fellow artists
UID:1e69b396-fbdc-41b7-8b8e-b926de5cc416
END:VEVENT
END:VCALENDAR
