BEGIN:VCALENDAR
PRODID:-//github.com/ical-org/ical.net//NONSGML ical.net 4.0//EN
VERSION:2.0
BEGIN:VEVENT
DESCRIPTION:April events at the museum in connection with the art exhibiti
 ons "Labyrinth" and "The Alchemy of Glass."
DTEND;VALUE=DATE:20260430
DTSTAMP:20260423T153501Z
DTSTART;VALUE=DATE:20260420
GEO:47.090495;17.909170
LOCATION:Laczkó Dezső Museum\nVeszprém\, Erzsébet stny. 1
SEQUENCE:0
SUMMARY:Labyrinth and the Alchemy of Glass
UID:828d6c96-4026-479f-b2b7-518b5af3f308
END:VEVENT
END:VCALENDAR
