BEGIN:VCALENDAR
PRODID:-//github.com/ical-org/ical.net//NONSGML ical.net 4.0//EN
VERSION:2.0
BEGIN:VEVENT
DESCRIPTION:Kindergarten fun with movement elements: including big-movemen
 t games\, cross-directional exercises\, and tasks requiring spatial orien
 tation.
DTEND:20260502T090000Z
DTSTAMP:20260420T233853Z
DTSTART:20260502T080000Z
GEO:46.955675;17.606851
LOCATION:ArtValley Hall\nKapolcs\, Kossuth u. 48
SEQUENCE:0
SUMMARY:Kerekítő Kindergarten Fun with lots of movement
UID:838a3b7b-8762-4259-a74c-56bbb3dc0687
END:VEVENT
END:VCALENDAR
