BEGIN:VCALENDAR
PRODID:-//github.com/ical-org/ical.net//NONSGML ical.net 4.0//EN
VERSION:2.0
BEGIN:VEVENT
DESCRIPTION:A joyful music concert in Herend – festive melodies in December
DTEND:20251221T230000Z
DTSTAMP:20260419T144801Z
DTSTART:20251221T150000Z
GEO:47.132051;17.753076
LOCATION:Pesovár Ernő Cultural Center\nHerend\, Kossuth Lajos u. 136
SEQUENCE:0
SUMMARY:Joyful Music Concert
UID:d80480f4-1475-4a29-a688-99b71d507886
END:VEVENT
END:VCALENDAR
