BEGIN:VCALENDAR
PRODID:-//github.com/ical-org/ical.net//NONSGML ical.net 4.0//EN
VERSION:2.0
BEGIN:VEVENT
DESCRIPTION:An audiovisual journey to inner silence. A live creation by Pé
 ter Halász\, where sound and light meet. Alchemical synaesthesia at CODE.
DTSTAMP:20260423T084821Z
DTSTART;VALUE=DATE:20260415
GEO:47.092425;17.903931
LOCATION:CODE Exhibition Spaces\nVeszprém\, Dózsa György u. 2
SEQUENCE:0
SUMMARY:IMMERZUM - Synaesthetic Deep Listening Alchemy
UID:02c8578e-d288-426c-9731-c7577bf4dc4b
END:VEVENT
END:VCALENDAR
