BEGIN:VCALENDAR
PRODID:-//github.com/ical-org/ical.net//NONSGML ical.net 4.0//EN
VERSION:2.0
BEGIN:VEVENT
DESCRIPTION:Local flavors and a community experience every Saturday
DTEND:20261226T170000Z
DTSTAMP:20260421T155057Z
DTSTART:20260103T063000Z
GEO:46.832869;17.431990
LOCATION:Hegymagas\nHegymagas
SEQUENCE:0
SUMMARY:Hegymagas Market Square
UID:72428aed-f256-4da3-8697-557a9f755ed2
END:VEVENT
END:VCALENDAR
