BEGIN:VCALENDAR
PRODID:-//github.com/ical-org/ical.net//NONSGML ical.net 4.0//EN
VERSION:2.0
BEGIN:VEVENT
DESCRIPTION:Health Day at Agora – Recharge your body and soul in one place
DTEND:20251025T150000Z
DTSTAMP:20260423T085109Z
DTSTART:20251025T070000Z
GEO:47.106183;17.913472
LOCATION:AGÓRA Veszprém Cultural Center\n
SEQUENCE:0
SUMMARY:Health Day
UID:e475c309-92c8-497a-bd18-f5e595cca502
END:VEVENT
END:VCALENDAR
