BEGIN:VCALENDAR
PRODID:-//github.com/ical-org/ical.net//NONSGML ical.net 4.0//EN
VERSION:2.0
BEGIN:VEVENT
DESCRIPTION:At the joint festive concert of Góbé band and Veszprém City Mi
 xed Choir and Vocal Ensemble\, in addition to folk music-inspired choral 
 works related to the national holiday\, there will also be world music co
 mpositions with enhanced vocal content and arrangements of classical mixe
 d choir works.
DTEND:20260314T193000Z
DTSTAMP:20260420T134507Z
DTSTART:20260314T180000Z
GEO:47.091959;17.909101
LOCATION:HANGVILLA Multifunctional Community Space\nVeszprém\, Brusznyai Á
 rpád u. 2
SEQUENCE:0
SUMMARY:Góbé and Veszprém City Mixed Choir - Festive concert
UID:4201a36f-ec13-42b5-a928-8642b261678f
END:VEVENT
END:VCALENDAR
