BEGIN:VCALENDAR
PRODID:-//github.com/ical-org/ical.net//NONSGML ical.net 4.0//EN
VERSION:2.0
BEGIN:VEVENT
DESCRIPTION:Themed gastronomic weekends and wine experiences in Badacsony
DTEND;VALUE=DATE:20260412
DTSTAMP:20260420T182346Z
DTSTART;VALUE=DATE:20260411
GEO:46.802527;17.510874
LOCATION:Badacsonytomaj\nBadacsonytomaj
SEQUENCE:0
SUMMARY:Gastro Hill Badacsony
UID:da6bef79-07f3-49e7-bfd4-39fe824e801e
END:VEVENT
END:VCALENDAR
