BEGIN:VCALENDAR
PRODID:-//github.com/ical-org/ical.net//NONSGML ical.net 4.0//EN
VERSION:2.0
BEGIN:VEVENT
DESCRIPTION:GasztroFok Spring – Spring Culinary Experiences in Siófok
DTEND:20260426T200000Z
DTSTAMP:20260421T154134Z
DTSTART:20260425T090000Z
GEO:46.909006;18.074742
LOCATION:Siófok\n
SEQUENCE:0
SUMMARY:GastroFok Spring
UID:5968f0c7-e18b-4f51-b12e-ee3fae68856b
END:VEVENT
END:VCALENDAR
