BEGIN:VCALENDAR
PRODID:-//github.com/ical-org/ical.net//NONSGML ical.net 4.0//EN
VERSION:2.0
BEGIN:VEVENT
DESCRIPTION:The health caravan is back in Veszprém: quick\, free examinati
 ons and personal consultations.
DTEND:20260321T160000Z
DTSTAMP:20260421T121136Z
DTSTART:20260321T090000Z
GEO:47.094249;17.906207
LOCATION:Old Town Square\nVeszprém\, Óváros tér
SEQUENCE:0
SUMMARY:Free health screenings in Veszprém
UID:7a905e65-2866-4b09-ac5b-c320aefdafd4
END:VEVENT
END:VCALENDAR
