BEGIN:VCALENDAR
PRODID:-//github.com/ical-org/ical.net//NONSGML ical.net 4.0//EN
VERSION:2.0
BEGIN:VEVENT
DESCRIPTION:Immersive yoga is a communal movement experience where light\,
  sound\, and space work together to help you slow down and reconnect with
  your body and your inner balance.\nIt’s not just a workout—it’s a state 
 of being you arrive at.
DTEND:20260527T174500Z
DTSTAMP:20260421T115131Z
DTSTART:20260422T163000Z
GEO:47.092425;17.903931
LOCATION:CODE Exhibition Spaces\nVeszprém\, Dózsa György u. 2
SEQUENCE:0
SUMMARY:Flow & Balance – Immersive Yoga
UID:c2e61731-d5ec-484b-8073-bf6ba2f1a738
END:VEVENT
END:VCALENDAR
