BEGIN:VCALENDAR
PRODID:-//github.com/ical-org/ical.net//NONSGML ical.net 4.0//EN
VERSION:2.0
BEGIN:VEVENT
DESCRIPTION:Magical Advent and holiday programs at several locations in Hé
 víz.
DTEND;VALUE=DATE:20251231
DTSTAMP:20260419T144441Z
DTSTART;VALUE=DATE:20251129
GEO:46.790286;17.186694
LOCATION:Hévíz\nHévíz
SEQUENCE:0
SUMMARY:Festive light magic in Hévíz
UID:e671e195-979b-4ca9-8171-cb574d2c523c
END:VEVENT
END:VCALENDAR
