BEGIN:VCALENDAR
PRODID:-//github.com/ical-org/ical.net//NONSGML ical.net 4.0//EN
VERSION:2.0
BEGIN:VEVENT
DESCRIPTION:The program promotes relaxation\, self-expression\, and physic
 al and mental harmony in a playful and safe environment.
DTEND:20260228T103000Z
DTSTAMP:20260421T102759Z
DTSTART:20260228T090000Z
GEO:46.955675;17.606851
LOCATION:ArtValley Hall\nKapolcs\, Kossuth u. 48
SEQUENCE:0
SUMMARY:Fabulous instrument playing and mindfulness movement exercises for
  families
UID:a30c25a2-2f04-4cac-a66e-9377e25a8071
END:VEVENT
END:VCALENDAR
