BEGIN:VCALENDAR
PRODID:-//github.com/ical-org/ical.net//NONSGML ical.net 4.0//EN
VERSION:2.0
BEGIN:VEVENT
DESCRIPTION:Fabulous instrument playing and mindfulness movement exercises
  for families with Claudia Kirchner.
DTEND:20260314T103000Z
DTSTAMP:20260421T102816Z
DTSTART:20260314T090000Z
SEQUENCE:0
SUMMARY:Fabulous instrument playing and mindfulness movement exercises for
  families
UID:db256b1e-2c6e-4d89-8651-c88d424435f3
END:VEVENT
END:VCALENDAR
