BEGIN:VCALENDAR
PRODID:-//github.com/ical-org/ical.net//NONSGML ical.net 4.0//EN
VERSION:2.0
BEGIN:VEVENT
DESCRIPTION:Pain relief and prevention exercises in small groups\, three t
 imes a week\, in Veszprém.
DTEND;VALUE=DATE:20260427
DTSTAMP:20260421T045756Z
DTSTART;VALUE=DATE:20260112
GEO:47.093107;17.901638
LOCATION:Mozdulatműhely\nVeszprém\, Dózsa György u. 23
SEQUENCE:0
SUMMARY:Evminov spine exercise
UID:76ac1411-e25c-4f39-a10f-bf46578e17a3
END:VEVENT
END:VCALENDAR
