BEGIN:VCALENDAR
PRODID:-//github.com/ical-org/ical.net//NONSGML ical.net 4.0//EN
VERSION:2.0
BEGIN:VEVENT
DESCRIPTION:Skate on the ice rink in Balatonboglár! Ice disco\, curling\, 
 and hockey programs await you!
DTEND;VALUE=DATE:20260208
DTSTAMP:20260421T190114Z
DTSTART;VALUE=DATE:20251128
GEO:46.773976;17.656070
LOCATION:Balatonboglár\nBalatonboglár
SEQUENCE:0
SUMMARY:Everyone onto the ice – Balatonboglár
UID:47c684fc-6846-403b-93e6-82609be29bd5
END:VEVENT
END:VCALENDAR
