BEGIN:VCALENDAR
PRODID:-//github.com/ical-org/ical.net//NONSGML ical.net 4.0//EN
VERSION:2.0
BEGIN:VEVENT
DESCRIPTION:Echo Picnic – a picnic\, DJ music\, and panoramic views of Lak
 e Balaton in Tihany
DTEND:20260425T190000Z
DTSTAMP:20260421T154918Z
DTSTART:20260425T130000Z
GEO:46.916223;17.887978
LOCATION:Echo Restaurant & Cafe\nTihany\, Visszhang u. 23
SEQUENCE:0
SUMMARY:Echo Picnic on Echo Hill - Echo Festival
UID:b611e588-ee97-4479-a256-88aa21d380db
END:VEVENT
END:VCALENDAR
