BEGIN:VCALENDAR
PRODID:-//github.com/ical-org/ical.net//NONSGML ical.net 4.0//EN
VERSION:2.0
BEGIN:VEVENT
DESCRIPTION:English-language drama festival
DTEND:20260531T120000Z
DTSTAMP:20260419T141017Z
DTSTART:20260529T070000Z
GEO:47.090505;17.906624
LOCATION:American Corner Veszprém\nVeszprém\, Komakút tér 3
SEQUENCE:0
SUMMARY:Drama in Veszprém! - 16th English-language Theater Festival
UID:f87d7011-ef35-4e6d-b9f0-1754db56853d
END:VEVENT
END:VCALENDAR
