BEGIN:VCALENDAR
PRODID:-//github.com/ical-org/ical.net//NONSGML ical.net 4.0//EN
VERSION:2.0
BEGIN:VEVENT
DESCRIPTION:Location: Zöldgólya Preschool\, 344 Dózsa György Street\, Sárm
 ellék 8391
DTEND;VALUE=DATE:20261231
DTSTAMP:20260420T175703Z
DTSTART;VALUE=DATE:20260401
GEO:46.716928;17.170461
LOCATION:Sármellék\nSármellék
SEQUENCE:0
SUMMARY:Dancing Feet – a musical and dance workshop for kids
UID:b5b0794e-f2d4-4ae0-8eea-d3a837dca1c9
END:VEVENT
END:VCALENDAR
