BEGIN:VCALENDAR
PRODID:-//github.com/ical-org/ical.net//NONSGML ical.net 4.0//EN
VERSION:2.0
BEGIN:VEVENT
DESCRIPTION:English-language Conversation Club
DTEND:20260625T153000Z
DTSTAMP:20260419T170156Z
DTSTART:20260205T153000Z
GEO:47.090505;17.906624
LOCATION:American Corner Veszprém\nVeszprém\, Komakút tér 3
SEQUENCE:0
SUMMARY:Conversation Club every Thursday
UID:6b41b822-cfe2-4b08-afad-77be2cf37953
END:VEVENT
END:VCALENDAR
