BEGIN:VCALENDAR
PRODID:-//github.com/ical-org/ical.net//NONSGML ical.net 4.0//EN
VERSION:2.0
BEGIN:VEVENT
DESCRIPTION:Gyöngyhalász Latin Trio plays traditional Latin music with aco
 ustic instruments. Their performances feature popular and well-known song
 s from the Caribbean\, but they also play their "own collections" from pl
 aces such as the Canary Islands\, Peru\, and Bolivia as exotic highlights
 .
DTEND:20260530T170000Z
DTSTAMP:20260420T234311Z
DTSTART:20260530T160000Z
GEO:46.955675;17.606851
LOCATION:ArtValley Hall\nKapolcs\, Kossuth u. 48
SEQUENCE:0
SUMMARY:Concert by Gyöngyhalász Trio with a Latin dance house
UID:bcb68ee8-f248-4a03-863f-244c018daec7
END:VEVENT
END:VCALENDAR
