BEGIN:VCALENDAR
PRODID:-//github.com/ical-org/ical.net//NONSGML ical.net 4.0//EN
VERSION:2.0
BEGIN:VEVENT
DESCRIPTION:Outdoor workouts featuring a variety of exercises\, led by thr
 ee trainers. Free exercise opportunities in the fresh air at the mini fit
 ness park.
DTEND:20260506T170000Z
DTSTAMP:20260421T081640Z
DTSTART:20260506T160000Z
GEO:47.124144;17.817446
LOCATION:Márkó\n
SEQUENCE:0
SUMMARY:Community on the Move – Márkó 2026 Outdoor Workouts
UID:daabace4-743b-47fe-9a0b-3253aae3c341
END:VEVENT
END:VCALENDAR
