BEGIN:VCALENDAR
PRODID:-//github.com/ical-org/ical.net//NONSGML ical.net 4.0//EN
VERSION:2.0
BEGIN:VEVENT
DESCRIPTION:Nordic walking is a dynamic form of walking with poles that en
 gages the entire body through active arm movement\, improving endurance a
 nd coordination.
DTEND:20260613T100000Z
DTSTAMP:20260421T082933Z
DTSTART:20260613T070000Z
GEO:47.124144;17.817446
LOCATION:Márkó\n
SEQUENCE:0
SUMMARY:Community on the Move – Márkó 2026 Nordic Walking
UID:31eeb351-7d88-4a89-aec8-6fafe831c2ca
END:VEVENT
END:VCALENDAR
