BEGIN:VCALENDAR
PRODID:-//github.com/ical-org/ical.net//NONSGML ical.net 4.0//EN
VERSION:2.0
BEGIN:VEVENT
DTEND:20260618T183000Z
DTSTAMP:20260421T083618Z
DTSTART:20260618T173000Z
GEO:47.124144;17.817446
LOCATION:Márkó\n
SEQUENCE:0
SUMMARY:Community in Motion—Márkó 2026 Zumba
UID:6b8c25cd-f451-4866-b1d8-b92cdf8bf40d
END:VEVENT
END:VCALENDAR
