BEGIN:VCALENDAR
PRODID:-//github.com/ical-org/ical.net//NONSGML ical.net 4.0//EN
VERSION:2.0
BEGIN:VEVENT
DESCRIPTION:Yoga is a form of exercise synchronized with breathing that st
 rengthens muscles\, increases flexibility\, reduces stress\, and improves
  overall well-being.
DTEND:20260619T170000Z
DTSTAMP:20260421T083618Z
DTSTART:20260619T160000Z
GEO:47.124144;17.817446
LOCATION:Márkó\n
SEQUENCE:0
SUMMARY:Community in Motion – Márkó 2026 Yoga
UID:65cf18a8-5022-4a54-87d7-99086e603fa0
END:VEVENT
END:VCALENDAR
