BEGIN:VCALENDAR
PRODID:-//github.com/ical-org/ical.net//NONSGML ical.net 4.0//EN
VERSION:2.0
BEGIN:VEVENT
DESCRIPTION:Dance workshops and folk dance lessons for all ages with dance
 rs from  Badacsony-Tördemic Folk Dance Ensemble.
DTEND:20260421T163000Z
DTSTAMP:20260420T214812Z
DTSTART:20260421T153000Z
GEO:46.913637;17.523077
LOCATION:Petőfi Sándor Cultural Center\, Monostorapáti\nMonostorapáti\, Pe
 tőfi Sándor utca
SEQUENCE:0
SUMMARY:Community Barn Dancing in Monostorapáti
UID:1b6ee443-f8e3-40de-829b-d8a8d940329f
END:VEVENT
END:VCALENDAR
